BEGIN:VCALENDAR
VERSION:2.0
PRODID:-//pretix//pretix.eu//
BEGIN:VEVENT
UID:pretix-dfvcg-twfls2021-0@tickets.dfvcg-events.de
DTSTART;VALUE=DATE:20211012
DTEND;VALUE=DATE:20211013
DESCRIPTION:Tickets: https://tickets.dfvcg-events.de/twfls2021/\nVeranstalt
 er: dfv Conference Group GmbH
DTSTAMP:20260424T183050Z
LOCATION:Palmengarten Gesellschaftshaus\, Frankfurt am Main
SUMMARY:TW Forum 2021
END:VEVENT
END:VCALENDAR
