BEGIN:VCALENDAR
VERSION:2.0
PRODID:-//pretix//pretix.eu//
BEGIN:VEVENT
UID:pretix-dfvcg-dhk22-0@tickets.dfvcg-events.de
DTSTART;VALUE=DATE:20220614
DTEND;VALUE=DATE:20220616
DESCRIPTION:Tickets: https://tickets.dfvcg-events.de/dhk22/\nVeranstalter: 
 dfv Conference Group GmbH
DTSTAMP:20260424T055126Z
LOCATION:Europa-Park\, Europa-Park-Straße 2\, 77977 Rust
SUMMARY:Deutscher Hotelkongress 2022
END:VEVENT
END:VCALENDAR
