BEGIN:VCALENDAR
VERSION:2.0
PRODID:-//pretix//pretix.eu//
BEGIN:VTIMEZONE
TZID:Europe/Berlin
BEGIN:STANDARD
DTSTART:20001029T040000
RRULE:FREQ=YEARLY;BYDAY=-1SU;BYMONTH=10
TZNAME:CET
TZOFFSETFROM:+0200
TZOFFSETTO:+0100
END:STANDARD
BEGIN:DAYLIGHT
DTSTART:20000326T030000
RRULE:FREQ=YEARLY;BYDAY=-1SU;BYMONTH=3
TZNAME:CEST
TZOFFSETFROM:+0100
TZOFFSETTO:+0200
END:DAYLIGHT
END:VTIMEZONE
BEGIN:VEVENT
UID:pretix-dfvcg-azdt21-2-0@tickets.dfvcg-events.de
DTSTART;TZID=Europe/Berlin:20211103T193000
DTEND;TZID=Europe/Berlin:20211103T201500
DESCRIPTION:Tickets: https://tickets.dfvcg-events.de/azdt21-2/\nEinlass: 03
 .11.2021 19:30\nVeranstalter: dfv Conference Group GmbH
DTSTAMP:20260424T165812Z
SUMMARY:az Innovationscheck
END:VEVENT
END:VCALENDAR
