BEGIN:VCALENDAR
VERSION:2.0
PRODID:-//pretix//pretix.eu//
BEGIN:VEVENT
UID:pretix-dfvcg-ZDAE23-0@tickets.dfvcg-events.de
DTSTART;VALUE=DATE:20230511
DTEND;VALUE=DATE:20230512
DESCRIPTION:Tickets: https://tickets.dfvcg-events.de/ZDAE23/\nVeranstalter:
  dfv Conference Group GmbH
DTSTAMP:20260422T083217Z
LOCATION:Alte Münze Berlin
SUMMARY:Zukunftsdialog Agrar & Ernährung 2023
END:VEVENT
END:VCALENDAR
