BEGIN:VCALENDAR
VERSION:2.0
PRODID:-//pretix//pretix.eu//
BEGIN:VEVENT
UID:pretix-dfvcg-TWSS24-0@tickets.dfvcg-events.de
DTSTART;VALUE=DATE:20240918
DTEND;VALUE=DATE:20240919
DESCRIPTION:Tickets: https://tickets.dfvcg-events.de/TWSS24/\nVeranstalter:
  dfv Conference Group GmbH
DTSTAMP:20260421T081807Z
LOCATION:Panoramadeck\, Emporio Tower\, Dammtorwall 15\, 20355 Hamburg
SUMMARY:TW Sustainabilty Summit 2024
END:VEVENT
END:VCALENDAR
