BEGIN:VCALENDAR
VERSION:2.0
PRODID:-//pretix//pretix.eu//
BEGIN:VEVENT
UID:pretix-dfvcg-STT22-0@tickets.dfvcg-events.de
DTSTART;VALUE=DATE:20220426
DTEND;VALUE=DATE:20220428
DESCRIPTION:Tickets: https://tickets.dfvcg-events.de/STT22/\nVeranstalter: 
 dfv Conference Group GmbH
DTSTAMP:20260424T090618Z
LOCATION:Olympiastadion Berlin GmbH
SUMMARY:LZ Strategietag Digitale Zukunft
END:VEVENT
END:VCALENDAR
