BEGIN:VCALENDAR
VERSION:2.0
PRODID:-//pretix//pretix.eu//
BEGIN:VEVENT
UID:pretix-dfvcg-SSLZ23-0@tickets.dfvcg-events.de
DTSTART;VALUE=DATE:20230913
DTEND;VALUE=DATE:20230915
DESCRIPTION:Tickets: https://tickets.dfvcg-events.de/SSLZ23/\nVeranstalter:
  dfv Conference Group GmbH
DTSTAMP:20260422T032446Z
LOCATION:Europa-Park Stadion\, Achim-Stocker-Straße 1\, 79108 Freiburg im 
 Breisgau
SUMMARY:LZ Strategietag Verpackung & Nachhaltigkeit 2023
END:VEVENT
END:VCALENDAR
