BEGIN:VCALENDAR
VERSION:2.0
PRODID:-//pretix//pretix.eu//
BEGIN:VEVENT
UID:pretix-dfvcg-SSLZ22-0@tickets.dfvcg-events.de
DTSTART;VALUE=DATE:20220621
DTEND;VALUE=DATE:20220622
DESCRIPTION:Tickets: https://tickets.dfvcg-events.de/SSLZ22/\nVeranstalter:
  dfv Conference Group GmbH
DTSTAMP:20260424T054138Z
LOCATION:Rheingoldhalle Mainz
SUMMARY:LZ Sustainability Summit
END:VEVENT
END:VCALENDAR
