BEGIN:VCALENDAR
VERSION:2.0
PRODID:-//pretix//pretix.eu//
BEGIN:VEVENT
UID:pretix-dfvcg-SPS23-0@tickets.dfvcg-events.de
DTSTART;VALUE=DATE:20231107
DTEND;VALUE=DATE:20231108
DESCRIPTION:Tickets: https://tickets.dfvcg-events.de/SPS23/\nVeranstalter: 
 dfv Conference Group GmbH
DTSTAMP:20260422T002123Z
LOCATION:Hilton Frankfurt City Centre\, Hochstraße 4\, 60313 Frankfurt am 
 Main
SUMMARY:Smart Proteins Summit 2023
END:VEVENT
END:VCALENDAR
