BEGIN:VCALENDAR
VERSION:2.0
PRODID:-//pretix//pretix.eu//
BEGIN:VEVENT
UID:pretix-dfvcg-SNA26-0@tickets.dfvcg-events.de
DTSTART;VALUE=DATE:20261013
DTEND;VALUE=DATE:20261014
DESCRIPTION:Tickets: https://tickets.dfvcg-events.de/SNA26/\nVeranstalter: 
 dfv Conference Group GmbH
DTSTAMP:20260423T231041Z
LOCATION:RheinRiff\, Hansaallee 321\, 40549 Düsseldorf
SUMMARY:snackday 2026
END:VEVENT
END:VCALENDAR
