BEGIN:VCALENDAR
VERSION:2.0
PRODID:-//pretix//pretix.eu//
BEGIN:VEVENT
UID:pretix-dfvcg-NFK24-0@tickets.dfvcg-events.de
DTSTART;VALUE=DATE:20240507
DTEND;VALUE=DATE:20240509
DESCRIPTION:Tickets: https://tickets.dfvcg-events.de/NFK24/\nVeranstalter: 
 dfv Conference Group GmbH
DTSTAMP:20260421T151435Z
LOCATION:Kap Europa\, Osloer Straße 5\, 60327 Frankfurt am Main
SUMMARY:Nonfood Kongress 2024
END:VEVENT
END:VCALENDAR
