BEGIN:VCALENDAR
VERSION:2.0
PRODID:-//pretix//pretix.eu//
BEGIN:VEVENT
UID:pretix-dfvcg-MAFO22-0@tickets.dfvcg-events.de
DTSTART;VALUE=DATE:20220927
DTEND;VALUE=DATE:20220929
DESCRIPTION:Tickets: https://tickets.dfvcg-events.de/MAFO22/\nVeranstalter:
  dfv Conference Group GmbH
DTSTAMP:20260424T004639Z
LOCATION:Steigenberger Airport Hotel Frankfurt am Main
SUMMARY:planung & analyse Insights 2022
END:VEVENT
END:VCALENDAR
