BEGIN:VCALENDAR
VERSION:2.0
PRODID:-//pretix//pretix.eu//
BEGIN:VEVENT
UID:pretix-dfvcg-M1ZM26-0@tickets.dfvcg-events.de
DTSTART;VALUE=DATE:20260928
DTEND;VALUE=DATE:20260930
DESCRIPTION:Tickets: https://tickets.dfvcg-events.de/M1ZM26/\nVeranstalter:
  dfv Conference Group GmbH
DTSTAMP:20260423T230513Z
LOCATION:Komed\, Im Mediapark 7\, 50670 Köln
SUMMARY:M1 - Zukunftskongress Messe 2026
END:VEVENT
END:VCALENDAR
