BEGIN:VCALENDAR
VERSION:2.0
PRODID:-//pretix//pretix.eu//
BEGIN:VEVENT
UID:pretix-dfvcg-LZST22-0@tickets.dfvcg-events.de
DTSTART;VALUE=DATE:20230307
DTEND;VALUE=DATE:20230308
DESCRIPTION:Tickets: https://tickets.dfvcg-events.de/LZST22/\nVeranstalter:
  dfv Conference Group GmbH
DTSTAMP:20260422T112222Z
LOCATION:Union Halle Frankfurt
SUMMARY:LZ Strategietag Frische
END:VEVENT
END:VCALENDAR
