BEGIN:VCALENDAR
VERSION:2.0
PRODID:-//pretix//pretix.eu//
BEGIN:VEVENT
UID:pretix-dfvcg-LZFB24-0@tickets.dfvcg-events.de
DTSTART;VALUE=DATE:20240925
DTEND;VALUE=DATE:20240926
DESCRIPTION:Tickets: https://tickets.dfvcg-events.de/LZFB24/\nVeranstalter:
  dfv Conference Group GmbH
DTSTAMP:20260421T081806Z
LOCATION:Place to be\, Düsseldorf\, Rolandstraße 44\, 40476 Düsseldorf
SUMMARY:LZ Food & Beverage Innovation Day 2024
END:VEVENT
END:VCALENDAR
