BEGIN:VCALENDAR
VERSION:2.0
PRODID:-//pretix//pretix.eu//
BEGIN:VTIMEZONE
TZID:Europe/Berlin
BEGIN:STANDARD
DTSTART:20001029T040000
RRULE:FREQ=YEARLY;BYDAY=-1SU;BYMONTH=10
TZNAME:CET
TZOFFSETFROM:+0200
TZOFFSETTO:+0100
END:STANDARD
BEGIN:DAYLIGHT
DTSTART:20000326T030000
RRULE:FREQ=YEARLY;BYDAY=-1SU;BYMONTH=3
TZNAME:CEST
TZOFFSETFROM:+0100
TZOFFSETTO:+0200
END:DAYLIGHT
END:VTIMEZONE
BEGIN:VEVENT
UID:pretix-dfvcg-HoGaDE22-0@tickets.dfvcg-events.de
DTSTART;TZID=Europe/Berlin:20220407T110000
DTEND;TZID=Europe/Berlin:20220407T121500
DESCRIPTION:Tickets: https://tickets.dfvcg-events.de/HoGaDE22/\nVeranstalte
 r: dfv Conference Group GmbH
DTSTAMP:20260424T090639Z
LOCATION:Live aus dem Studio der dfv Mediengruppe
SUMMARY:Status Quo Hotellerie #1 - Das digitale Forum zum #DHK2022
END:VEVENT
END:VCALENDAR
