BEGIN:VCALENDAR
VERSION:2.0
PRODID:-//pretix//pretix.eu//
BEGIN:VEVENT
UID:pretix-dfvcg-HP26-0@tickets.dfvcg-events.de
DTSTART;VALUE=DATE:20260128
DTEND;VALUE=DATE:20260129
DESCRIPTION:Tickets: https://tickets.dfvcg-events.de/HP26/\nVeranstalter: d
 fv Conference Group GmbH
DTSTAMP:20260422T081132Z
LOCATION:F.A.Z. Tower\, Pariser Straße 1\, 60486 Frankfurt am Main
SUMMARY:HORIZONT Preview 2026
END:VEVENT
END:VCALENDAR
