BEGIN:VCALENDAR
VERSION:2.0
PRODID:-//pretix//pretix.eu//
BEGIN:VEVENT
UID:pretix-dfvcg-HORSW235-0@tickets.dfvcg-events.de
DTSTART;VALUE=DATE:20231214
DTEND;VALUE=DATE:20231215
DESCRIPTION:Tickets: https://tickets.dfvcg-events.de/HORSW235/\nVeranstalte
 r: dfv Conference Group GmbH
DTSTAMP:20260421T225200Z
SUMMARY:HORIZONT Swiss Digital Talk "Green Media"
END:VEVENT
END:VCALENDAR
