BEGIN:VCALENDAR
VERSION:2.0
PRODID:-//pretix//pretix.eu//
BEGIN:VEVENT
UID:pretix-dfvcg-HORSW234-0@tickets.dfvcg-events.de
DTSTART;VALUE=DATE:20231005
DTEND;VALUE=DATE:20231006
DESCRIPTION:Tickets: https://tickets.dfvcg-events.de/HORSW234/\nVeranstalte
 r: dfv Conference Group GmbH
DTSTAMP:20260422T015355Z
SUMMARY:HORIZONT SWISS digital talk: Generative KI in der Werbung
END:VEVENT
END:VCALENDAR
