BEGIN:VCALENDAR
VERSION:2.0
PRODID:-//pretix//pretix.eu//
BEGIN:VEVENT
UID:pretix-dfvcg-HORSW232-0@tickets.dfvcg-events.de
DTSTART;VALUE=DATE:20230413
DTEND;VALUE=DATE:20230414
DESCRIPTION:Tickets: https://tickets.dfvcg-events.de/HORSW232/\nVeranstalte
 r: dfv Conference Group GmbH
DTSTAMP:20260422T095712Z
SUMMARY:HORIZONT Swiss Digital Talk "Bewegtbild - Kampf der Bildschirme"
END:VEVENT
END:VCALENDAR
