BEGIN:VCALENDAR
VERSION:2.0
PRODID:-//pretix//pretix.eu//
BEGIN:VEVENT
UID:pretix-dfvcg-HORDT241-0@tickets.dfvcg-events.de
DTSTART;VALUE=DATE:20240208
DTEND;VALUE=DATE:20240209
DESCRIPTION:Tickets: https://tickets.dfvcg-events.de/HORDT241/\nVeranstalte
 r: dfv Conference Group GmbH
DTSTAMP:20260421T194612Z
SUMMARY:HOR Swiss "Die Macht der Bewegt-Bilder"
END:VEVENT
END:VCALENDAR
