BEGIN:VCALENDAR
VERSION:2.0
PRODID:-//pretix//pretix.eu//
BEGIN:VEVENT
UID:pretix-dfvcg-HORDT235-0@tickets.dfvcg-events.de
DTSTART;VALUE=DATE:20231205
DTEND;VALUE=DATE:20231206
DESCRIPTION:Tickets: https://tickets.dfvcg-events.de/HORDT235/\nVeranstalte
 r: dfv Conference Group GmbH
DTSTAMP:20260421T225236Z
LOCATION:digital talk
SUMMARY:HORIZONT digital talk: Brands im Web3
END:VEVENT
END:VCALENDAR
