BEGIN:VCALENDAR
VERSION:2.0
PRODID:-//pretix//pretix.eu//
BEGIN:VEVENT
UID:pretix-dfvcg-HORDT234-0@tickets.dfvcg-events.de
DTSTART;VALUE=DATE:20231020
DTEND;VALUE=DATE:20231021
DESCRIPTION:Tickets: https://tickets.dfvcg-events.de/HORDT234/\nVeranstalte
 r: dfv Conference Group GmbH
DTSTAMP:20260422T015511Z
SUMMARY:HORIZONT digital talk: Programmatic Advertising
END:VEVENT
END:VCALENDAR
