BEGIN:VCALENDAR
VERSION:2.0
PRODID:-//pretix//pretix.eu//
BEGIN:VEVENT
UID:pretix-dfvcg-HORDT233-0@tickets.dfvcg-events.de
DTSTART;VALUE=DATE:20230914
DTEND;VALUE=DATE:20230915
DESCRIPTION:Tickets: https://tickets.dfvcg-events.de/HORDT233/\nVeranstalte
 r: dfv Conference Group GmbH
DTSTAMP:20260422T032501Z
SUMMARY:HORIZONT digital talk: Retail Media
END:VEVENT
END:VCALENDAR
