BEGIN:VCALENDAR
VERSION:2.0
PRODID:-//pretix//pretix.eu//
BEGIN:VEVENT
UID:pretix-dfvcg-HDJ22-0@tickets.dfvcg-events.de
DTSTART;VALUE=DATE:20220614
DTEND;VALUE=DATE:20220615
DESCRIPTION:Tickets: https://tickets.dfvcg-events.de/HDJ22/\nVeranstalter: 
 dfv Conference Group GmbH
DTSTAMP:20260424T054235Z
LOCATION:Europapark\, Europa-Park-Straße 2\, 77977 Rust
SUMMARY:Hotelier des Jahres 2022
END:VEVENT
END:VCALENDAR
