BEGIN:VCALENDAR
VERSION:2.0
PRODID:-//pretix//pretix.eu//
BEGIN:VEVENT
UID:pretix-dfvcg-EFSS-6-0@tickets.dfvcg-events.de
DTSTART;VALUE=DATE:20210921
DTEND;VALUE=DATE:20210922
DESCRIPTION:Tickets: https://tickets.dfvcg-events.de/EFSS-6/\nOrganizer: df
 v Conference Group GmbH
DTSTAMP:20260424T200228Z
LOCATION:Digital via livestream
SUMMARY:European Foodservice Summit: F&B Insights from Around the World
END:VEVENT
END:VCALENDAR
