BEGIN:VCALENDAR
VERSION:2.0
PRODID:-//pretix//pretix.eu//
BEGIN:VEVENT
UID:pretix-dfvcg-EF241-0@tickets.dfvcg-events.de
DTSTART;VALUE=DATE:20240507
DTEND;VALUE=DATE:20240508
DESCRIPTION:Tickets: https://tickets.dfvcg-events.de/EF241/\nVeranstalter: 
 dfv Conference Group GmbH
DTSTAMP:20260421T145759Z
SUMMARY:energate forum I 2024
END:VEVENT
END:VCALENDAR
