BEGIN:VCALENDAR
VERSION:2.0
PRODID:-//pretix//pretix.eu//
BEGIN:VEVENT
UID:pretix-dfvcg-EF23-0@tickets.dfvcg-events.de
DTSTART;VALUE=DATE:20231116
DTEND;VALUE=DATE:20231117
DESCRIPTION:Tickets: https://tickets.dfvcg-events.de/EF23/\nVeranstalter: d
 fv Conference Group GmbH
DTSTAMP:20260422T002130Z
LOCATION:Hotel Oderberger Berlin
SUMMARY:energate-Forum 2023
END:VEVENT
END:VCALENDAR
