BEGIN:VCALENDAR
VERSION:2.0
PRODID:-//pretix//pretix.eu//
BEGIN:VTIMEZONE
TZID:Europe/Berlin
BEGIN:STANDARD
DTSTART:20001029T040000
RRULE:FREQ=YEARLY;BYDAY=-1SU;BYMONTH=10
TZNAME:CET
TZOFFSETFROM:+0200
TZOFFSETTO:+0100
END:STANDARD
BEGIN:DAYLIGHT
DTSTART:20000326T030000
RRULE:FREQ=YEARLY;BYDAY=-1SU;BYMONTH=3
TZNAME:CEST
TZOFFSETFROM:+0100
TZOFFSETTO:+0200
END:DAYLIGHT
END:VTIMEZONE
BEGIN:VEVENT
UID:pretix-dfvcg-DTKI2420-0@tickets.dfvcg-events.de
DTSTART;TZID=Europe/Berlin:20240517T110000
DTEND;TZID=Europe/Berlin:20240517T120000
DESCRIPTION:Tickets: https://tickets.dfvcg-events.de/DTKI2420/\nVeranstalte
 r: dfv Conference Group GmbH
DTSTAMP:20260421T161856Z
SUMMARY:KI-Woche: Tag 5 Session 2 - Big Tech und KI: Wie abhängig sind Med
 ienhäuser wirklich?
END:VEVENT
END:VCALENDAR
