BEGIN:VCALENDAR
VERSION:2.0
PRODID:-//pretix//pretix.eu//
BEGIN:VTIMEZONE
TZID:Europe/Berlin
BEGIN:STANDARD
DTSTART:20001029T040000
RRULE:FREQ=YEARLY;BYDAY=-1SU;BYMONTH=10
TZNAME:CET
TZOFFSETFROM:+0200
TZOFFSETTO:+0100
END:STANDARD
BEGIN:DAYLIGHT
DTSTART:20000326T030000
RRULE:FREQ=YEARLY;BYDAY=-1SU;BYMONTH=3
TZNAME:CEST
TZOFFSETFROM:+0100
TZOFFSETTO:+0200
END:DAYLIGHT
END:VTIMEZONE
BEGIN:VEVENT
UID:pretix-dfvcg-DTKI241-0@tickets.dfvcg-events.de
DTSTART;TZID=Europe/Berlin:20240513T101500
DTEND;TZID=Europe/Berlin:20240513T104500
DESCRIPTION:Tickets: https://tickets.dfvcg-events.de/DTKI241/\nVeranstalter
 : dfv Conference Group GmbH
DTSTAMP:20260421T145758Z
SUMMARY:KI-Woche: Tag 1 Opening & Session 1 - Was wir in der KI-Woche vorha
 ben
END:VEVENT
END:VCALENDAR
