BEGIN:VCALENDAR
VERSION:2.0
PRODID:-//pretix//pretix.eu//
BEGIN:VTIMEZONE
TZID:Europe/Berlin
BEGIN:STANDARD
DTSTART:20001029T040000
RRULE:FREQ=YEARLY;BYDAY=-1SU;BYMONTH=10
TZNAME:CET
TZOFFSETFROM:+0200
TZOFFSETTO:+0100
END:STANDARD
BEGIN:DAYLIGHT
DTSTART:20000326T030000
RRULE:FREQ=YEARLY;BYDAY=-1SU;BYMONTH=3
TZNAME:CEST
TZOFFSETFROM:+0100
TZOFFSETTO:+0200
END:DAYLIGHT
END:VTIMEZONE
BEGIN:VEVENT
UID:pretix-dfvcg-DTGT2403-0@tickets.dfvcg-events.de
DTSTART;TZID=Europe/Berlin:20240423T110000
DTEND;TZID=Europe/Berlin:20240423T120000
DESCRIPTION:Tickets: https://tickets.dfvcg-events.de/DTGT2403/\nVeranstalte
 r: dfv Conference Group GmbH
DTSTAMP:20260421T165429Z
SUMMARY:GREEN.WORKS Academy | Masterclass | Wasserfußabdruck messen\, Wass
 erstrategie entwickeln
END:VEVENT
END:VCALENDAR
