BEGIN:VCALENDAR
VERSION:2.0
PRODID:-//pretix//pretix.eu//
BEGIN:VEVENT
UID:pretix-dfvcg-DRD24-0@tickets.dfvcg-events.de
DTSTART;VALUE=DATE:20240610
DTEND;VALUE=DATE:20240612
DESCRIPTION:Tickets: https://tickets.dfvcg-events.de/DRD24/\nVeranstalter: 
 dfv Conference Group GmbH
DTSTAMP:20260421T134046Z
LOCATION:b’mine Frankfurt\, Georg-Baumgarten-Straße 1\, 60549 Frankfurt 
 am Main
SUMMARY:Digital Restaurant Day 2024
END:VEVENT
END:VCALENDAR
