BEGIN:VCALENDAR
VERSION:2.0
PRODID:-//pretix//pretix.eu//
BEGIN:VEVENT
UID:pretix-dfvcg-DRD23-0@tickets.dfvcg-events.de
DTSTART;VALUE=DATE:20230619
DTEND;VALUE=DATE:20230621
DESCRIPTION:Tickets: https://tickets.dfvcg-events.de/DRD23/\nVeranstalter: 
 dfv Conference Group GmbH
DTSTAMP:20260422T072201Z
LOCATION:b’mine Frankfurt\, Georg-Baumgarten-Straße 1\, 60549 Frankfurt 
 am Main
SUMMARY:Digital Restaurant Day 2023
END:VEVENT
END:VCALENDAR
