BEGIN:VCALENDAR
VERSION:2.0
PRODID:-//pretix//pretix.eu//
BEGIN:VEVENT
UID:pretix-dfvcg-DMHK23-0@tickets.dfvcg-events.de
DTSTART;VALUE=DATE:20231128
DTEND;VALUE=DATE:20231129
DESCRIPTION:Tickets: https://tickets.dfvcg-events.de/DMHK23/\nVeranstalter:
  dfv Conference Group GmbH
DTSTAMP:20260422T002251Z
LOCATION:Classic Remise Düsseldorf\, Harffstraße 110a\, 40591 Düsseldorf
SUMMARY:TW SUMMIT 2023
END:VEVENT
END:VCALENDAR
