BEGIN:VCALENDAR
VERSION:2.0
PRODID:-//pretix//pretix.eu//
BEGIN:VEVENT
UID:pretix-dfvcg-DMHK22-0@tickets.dfvcg-events.de
DTSTART;VALUE=DATE:20221017
DTEND;VALUE=DATE:20221018
DESCRIPTION:Tickets: https://tickets.dfvcg-events.de/DMHK22/\nVeranstalter:
  dfv Conference Group GmbH
DTSTAMP:20260423T232247Z
SUMMARY:Modehandels Kongress 2022
END:VEVENT
END:VCALENDAR
