BEGIN:VCALENDAR
VERSION:2.0
PRODID:-//pretix//pretix.eu//
BEGIN:VEVENT
UID:pretix-dfvcg-DHK24-0@tickets.dfvcg-events.de
DTSTART;VALUE=DATE:20240408
DTEND;VALUE=DATE:20240410
DESCRIPTION:Tickets: https://tickets.dfvcg-events.de/DHK24/\nVeranstalter: 
 dfv Conference Group GmbH
DTSTAMP:20260421T165407Z
LOCATION:Europa-Park\, Europa-Park-Straße 2\, 77977 Rust
SUMMARY:ahgz Hotelkongress 2024
END:VEVENT
END:VCALENDAR
