BEGIN:VCALENDAR
VERSION:2.0
PRODID:-//pretix//pretix.eu//
BEGIN:VEVENT
UID:pretix-dfvcg-DHD23-0@tickets.dfvcg-events.de
DTSTART;VALUE=DATE:20231115
DTEND;VALUE=DATE:20231116
DESCRIPTION:Tickets: https://tickets.dfvcg-events.de/DHD23/\nVeranstalter: 
 dfv Conference Group GmbH
DTSTAMP:20260422T002149Z
SUMMARY:Digital Hotel Day 2023
END:VEVENT
END:VCALENDAR
