BEGIN:VCALENDAR
VERSION:2.0
PRODID:-//pretix//pretix.eu//
BEGIN:VEVENT
UID:pretix-dfvcg-DFS22-0@tickets.dfvcg-events.de
DTSTART;VALUE=DATE:20220914
DTEND;VALUE=DATE:20220915
DESCRIPTION:Tickets: https://tickets.dfvcg-events.de/DFS22/\nVeranstalter: 
 dfv Conference Group GmbH
DTSTAMP:20260424T010659Z
LOCATION:Leonardo Royal Berlin Alexanderplatz
SUMMARY:Digital Fashion Summit 2022
END:VEVENT
END:VCALENDAR
