BEGIN:VCALENDAR
VERSION:2.0
PRODID:-//pretix//pretix.eu//
BEGIN:VTIMEZONE
TZID:Europe/Berlin
BEGIN:STANDARD
DTSTART:20001029T040000
RRULE:FREQ=YEARLY;BYDAY=-1SU;BYMONTH=10
TZNAME:CET
TZOFFSETFROM:+0200
TZOFFSETTO:+0100
END:STANDARD
BEGIN:DAYLIGHT
DTSTART:20000326T030000
RRULE:FREQ=YEARLY;BYDAY=-1SU;BYMONTH=3
TZNAME:CEST
TZOFFSETFROM:+0100
TZOFFSETTO:+0200
END:DAYLIGHT
END:VTIMEZONE
BEGIN:VEVENT
UID:pretix-dfvcg-DFK223-0@tickets.dfvcg-events.de
DTSTART;TZID=Europe/Berlin:20220504T140000
DTEND;TZID=Europe/Berlin:20220504T150000
DESCRIPTION:Tickets: https://tickets.dfvcg-events.de/DFK223/\nOrganizer: df
 v Conference Group GmbH
DTSTAMP:20260424T072756Z
SUMMARY:Meat the Future - From Meat to Protein Production: Tools\, Methods 
 and Machinery
END:VEVENT
END:VCALENDAR
