BEGIN:VCALENDAR
VERSION:2.0
PRODID:-//pretix//pretix.eu//
BEGIN:VTIMEZONE
TZID:Europe/Berlin
BEGIN:STANDARD
DTSTART:20001029T040000
RRULE:FREQ=YEARLY;BYDAY=-1SU;BYMONTH=10
TZNAME:CET
TZOFFSETFROM:+0200
TZOFFSETTO:+0100
END:STANDARD
BEGIN:DAYLIGHT
DTSTART:20000326T030000
RRULE:FREQ=YEARLY;BYDAY=-1SU;BYMONTH=3
TZNAME:CEST
TZOFFSETFROM:+0100
TZOFFSETTO:+0200
END:DAYLIGHT
END:VTIMEZONE
BEGIN:VEVENT
UID:pretix-dfvcg-BB22-0@tickets.dfvcg-events.de
DTSTART;TZID=Europe/Berlin:20220302T150000
DTEND;TZID=Europe/Berlin:20220302T160000
DESCRIPTION:Tickets: https://tickets.dfvcg-events.de/BB22/\nVeranstalter: d
 fv Conference Group GmbH
DTSTAMP:20260424T104107Z
SUMMARY:Breaking Business: Krieg in der Ukraine – Auswirkungen auf deutsc
 he\, europäische und globale Märkte
END:VEVENT
END:VCALENDAR
